BEGIN:VCALENDAR
VERSION:2.0
PRODID:-//The Catholic Sun - ECPv6.15.20//NONSGML v1.0//EN
CALSCALE:GREGORIAN
METHOD:PUBLISH
X-ORIGINAL-URL:https://www.catholicsun.org
X-WR-CALDESC:Events for The Catholic Sun
REFRESH-INTERVAL;VALUE=DURATION:PT1H
X-Robots-Tag:noindex
X-PUBLISHED-TTL:PT1H
BEGIN:VTIMEZONE
TZID:America/Phoenix
BEGIN:STANDARD
TZOFFSETFROM:-0700
TZOFFSETTO:-0700
TZNAME:MST
DTSTART:20250101T000000
END:STANDARD
END:VTIMEZONE
BEGIN:VEVENT
DTSTART;VALUE=DATE:20260208
DTEND;VALUE=DATE:20260209
DTSTAMP:20260421T221207
CREATED:20260107T232203Z
LAST-MODIFIED:20260107T232203Z
UID:435128-1770508800-1770595199@www.catholicsun.org
SUMMARY:Catholic Campaign for Human Development Local Grant
DESCRIPTION:This annual grant supporting local nonprofits is made possible by Catholics in the Diocese of Phoenix who contribute to our diocesan CCHD collection each year. Eligible organizations can apply for a local grant of up to $10\,000 through the Diocese of Phoenix’s department of Catholic Social Teaching.
URL:https://www.catholicsun.org/event/catholic-campaign-for-human-development-local-grant-2/
ATTACH;FMTTYPE=image/jpeg:https://www.catholicsun.org/wp-content/uploads/2026/01/2026-CCHD-Local-Grant-Flyer.jpeg
ORGANIZER;CN="Diocese of Phoenix- Catholic Social Teaching":MAILTO:astandish@dphx.org
END:VEVENT
END:VCALENDAR